Package: INTACT Version: 1.4.0 Command: /Library/Frameworks/R.framework/Resources/bin/R CMD build --keep-empty-dirs --no-resave-data INTACT StartedAt: 2024-10-16 20:11:54 -0400 (Wed, 16 Oct 2024) EndedAt: 2024-10-16 20:12:22 -0400 (Wed, 16 Oct 2024) EllapsedTime: 27.6 seconds RetCode: 0 Status: OK PackageFile: INTACT_1.4.0.tar.gz PackageFileSize: 2.43 MiB