Package: INTACT Version: 1.4.0 Command: rm -rf INTACT.buildbin-libdir && mkdir INTACT.buildbin-libdir && /Users/biocbuild/BBS/utils/build-universal.sh INTACT_1.4.0.tar.gz /Library/Frameworks/R.framework/Resources/bin/R INTACT.buildbin-libdir StartedAt: 2024-10-17 16:23:46 -0400 (Thu, 17 Oct 2024) EndedAt: 2024-10-17 16:24:01 -0400 (Thu, 17 Oct 2024) EllapsedTime: 15.2 seconds RetCode: 0 Status: OK PackageFile: INTACT_1.4.0.tgz PackageFileSize: 2.502 MiB