Package: INTACT Version: 1.4.0 Command: /Library/Frameworks/R.framework/Resources/bin/R CMD check --install=check:INTACT.install-out.txt --library=/Library/Frameworks/R.framework/Resources/library --no-vignettes --timings INTACT_1.4.0.tar.gz StartedAt: 2024-06-09 21:01:27 -0400 (Sun, 09 Jun 2024) EndedAt: 2024-06-09 21:02:19 -0400 (Sun, 09 Jun 2024) EllapsedTime: 52.1 seconds RetCode: 0 Status: OK CheckDir: INTACT.Rcheck Warnings: 0