Package: INTACT Version: 1.4.0 Command: /home/biocbuild/R/R-beta-2024-04-15_r86425/bin/R CMD check --install=check:INTACT.install-out.txt --library=/home/biocbuild/R/R-beta-2024-04-15_r86425/site-library --no-vignettes --timings INTACT_1.4.0.tar.gz StartedAt: 2024-05-09 08:35:19 -0000 (Thu, 09 May 2024) EndedAt: 2024-05-09 08:36:07 -0000 (Thu, 09 May 2024) EllapsedTime: 48.1 seconds RetCode: 0 Status: OK CheckDir: INTACT.Rcheck Warnings: 0