Package: INTACT Version: 1.4.0 Command: /Library/Frameworks/R.framework/Resources/bin/R CMD check --install=check:INTACT.install-out.txt --library=/Library/Frameworks/R.framework/Resources/library --no-vignettes --timings INTACT_1.4.0.tar.gz StartedAt: 2024-10-18 01:14:28 -0400 (Fri, 18 Oct 2024) EndedAt: 2024-10-18 01:15:19 -0400 (Fri, 18 Oct 2024) EllapsedTime: 50.6 seconds RetCode: 0 Status: OK CheckDir: INTACT.Rcheck Warnings: 0