Package: INSPEcT Version: 1.34.0 Command: rm -rf INSPEcT.buildbin-libdir && mkdir INSPEcT.buildbin-libdir && F:\biocbuild\bbs-3.19-bioc\R\bin\R.exe CMD INSTALL --build --library=INSPEcT.buildbin-libdir INSPEcT_1.34.0.tar.gz StartedAt: 2024-06-27 08:22:59 -0400 (Thu, 27 Jun 2024) EndedAt: 2024-06-27 08:24:44 -0400 (Thu, 27 Jun 2024) EllapsedTime: 105.6 seconds RetCode: 0 Status: OK PackageFile: INSPEcT_1.34.0.zip PackageFileSize: 7.96 MiB