Package: INSPEcT Version: 1.34.0 Command: /home/biocbuild/bbs-3.19-bioc/R/bin/R CMD INSTALL INSPEcT StartedAt: 2024-10-16 16:18:29 -0400 (Wed, 16 Oct 2024) EndedAt: 2024-10-16 16:19:28 -0400 (Wed, 16 Oct 2024) EllapsedTime: 59.3 seconds RetCode: 0 Status: OK