Package: INSPEcT Version: 1.34.0 Command: /Library/Frameworks/R.framework/Resources/bin/R CMD build --keep-empty-dirs --no-resave-data INSPEcT StartedAt: 2024-10-16 20:11:42 -0400 (Wed, 16 Oct 2024) EndedAt: 2024-10-16 20:32:58 -0400 (Wed, 16 Oct 2024) EllapsedTime: 1276.5 seconds RetCode: 0 Status: OK PackageFile: INSPEcT_1.34.0.tar.gz PackageFileSize: 7.814 MiB