Package: INSPEcT Version: 1.34.0 Command: /home/biocbuild/R/R-beta-2024-04-15_r86425/bin/R CMD check --install=check:INSPEcT.install-out.txt --library=/home/biocbuild/R/R-beta-2024-04-15_r86425/site-library --no-vignettes --timings INSPEcT_1.34.0.tar.gz StartedAt: 2024-05-09 08:34:31 -0000 (Thu, 09 May 2024) EndedAt: 2024-05-09 08:51:11 -0000 (Thu, 09 May 2024) EllapsedTime: 999.8 seconds RetCode: 0 Status: OK CheckDir: INSPEcT.Rcheck Warnings: 0