Package: INSPEcT Version: 1.34.0 Command: /home/biocbuild/R/R-beta-2024-04-15_r86425/bin/R CMD build --keep-empty-dirs --no-resave-data INSPEcT StartedAt: 2024-05-09 01:06:04 -0000 (Thu, 09 May 2024) EndedAt: 2024-05-09 01:19:10 -0000 (Thu, 09 May 2024) EllapsedTime: 786.1 seconds RetCode: 0 Status: OK PackageFile: INSPEcT_1.34.0.tar.gz PackageFileSize: 57.93 MiB