Package: INSPEcT Version: 1.34.0 Command: /Library/Frameworks/R.framework/Resources/bin/R CMD INSTALL INSPEcT StartedAt: 2024-06-09 16:19:58 -0400 (Sun, 09 Jun 2024) EndedAt: 2024-06-09 16:21:23 -0400 (Sun, 09 Jun 2024) EllapsedTime: 85.3 seconds RetCode: 0 Status: OK