Package: INSPEcT Version: 1.34.0 Command: /Library/Frameworks/R.framework/Resources/bin/R CMD INSTALL INSPEcT StartedAt: 2024-10-16 17:16:01 -0400 (Wed, 16 Oct 2024) EndedAt: 2024-10-16 17:17:12 -0400 (Wed, 16 Oct 2024) EllapsedTime: 70.6 seconds RetCode: 0 Status: OK