Package: INSPEcT Version: 1.34.0 Command: /Library/Frameworks/R.framework/Resources/bin/R CMD check --install=check:INSPEcT.install-out.txt --library=/Library/Frameworks/R.framework/Resources/library --no-vignettes --timings INSPEcT_1.34.0.tar.gz StartedAt: 2024-10-15 00:50:09 -0400 (Tue, 15 Oct 2024) EndedAt: 2024-10-15 01:03:58 -0400 (Tue, 15 Oct 2024) EllapsedTime: 828.9 seconds RetCode: 0 Status: OK CheckDir: INSPEcT.Rcheck Warnings: 0