Package: INDEED Version: 2.18.0 Command: rm -rf INDEED.buildbin-libdir && mkdir INDEED.buildbin-libdir && F:\biocbuild\bbs-3.19-bioc\R\bin\R.exe CMD INSTALL --build --library=INDEED.buildbin-libdir INDEED_2.18.0.tar.gz StartedAt: 2024-06-27 08:22:47 -0400 (Thu, 27 Jun 2024) EndedAt: 2024-06-27 08:23:06 -0400 (Thu, 27 Jun 2024) EllapsedTime: 18.9 seconds RetCode: 0 Status: OK PackageFile: INDEED_2.18.0.zip PackageFileSize: 783.1 KiB