Package: INDEED Version: 2.18.0 Command: /home/biocbuild/bbs-3.19-bioc/R/bin/R CMD build --keep-empty-dirs --no-resave-data INDEED StartedAt: 2024-10-16 19:03:28 -0400 (Wed, 16 Oct 2024) EndedAt: 2024-10-16 19:03:40 -0400 (Wed, 16 Oct 2024) EllapsedTime: 12.0 seconds RetCode: 0 Status: OK PackageFile: INDEED_2.18.0.tar.gz PackageFileSize: 1.857 MiB