Package: INDEED Version: 2.18.0 Command: /Library/Frameworks/R.framework/Resources/bin/R CMD INSTALL INDEED StartedAt: 2024-06-09 15:27:05 -0400 (Sun, 09 Jun 2024) EndedAt: 2024-06-09 15:27:13 -0400 (Sun, 09 Jun 2024) EllapsedTime: 8.4 seconds RetCode: 0 Status: OK