Package: INDEED Version: 2.18.0 Command: /Library/Frameworks/R.framework/Resources/bin/R CMD INSTALL INDEED StartedAt: 2024-10-16 17:42:14 -0400 (Wed, 16 Oct 2024) EndedAt: 2024-10-16 17:42:21 -0400 (Wed, 16 Oct 2024) EllapsedTime: 6.9 seconds RetCode: 0 Status: OK