Package: IMPCdata Version: 1.40.0 Command: F:\biocbuild\bbs-3.19-bioc\R\bin\R.exe CMD INSTALL IMPCdata StartedAt: 2024-06-26 15:38:27 -0400 (Wed, 26 Jun 2024) EndedAt: 2024-06-26 15:38:41 -0400 (Wed, 26 Jun 2024) EllapsedTime: 13.6 seconds RetCode: 0 Status: OK