Package: IMPCdata Version: 1.40.0 Command: chmod a+r IMPCdata -R && F:\biocbuild\bbs-3.19-bioc\R\bin\R.exe CMD build --keep-empty-dirs --no-resave-data IMPCdata StartedAt: 2024-06-26 19:34:57 -0400 (Wed, 26 Jun 2024) EndedAt: 2024-06-26 19:36:10 -0400 (Wed, 26 Jun 2024) EllapsedTime: 72.5 seconds RetCode: 0 Status: OK PackageFile: IMPCdata_1.40.0.tar.gz PackageFileSize: 107.8 KiB