Package: IMPCdata Version: 1.40.0 Command: rm -rf IMPCdata.buildbin-libdir && mkdir IMPCdata.buildbin-libdir && F:\biocbuild\bbs-3.19-bioc\R\bin\R.exe CMD INSTALL --build --library=IMPCdata.buildbin-libdir IMPCdata_1.40.0.tar.gz StartedAt: 2024-06-27 08:22:43 -0400 (Thu, 27 Jun 2024) EndedAt: 2024-06-27 08:22:57 -0400 (Thu, 27 Jun 2024) EllapsedTime: 14.3 seconds RetCode: 0 Status: OK PackageFile: IMPCdata_1.40.0.zip PackageFileSize: 161.2 KiB