Package: IMPCdata Version: 1.40.0 Command: rm -rf IMPCdata.buildbin-libdir && mkdir IMPCdata.buildbin-libdir && /Users/biocbuild/BBS/utils/build-universal.sh IMPCdata_1.40.0.tar.gz /Library/Frameworks/R.framework/Resources/bin/R IMPCdata.buildbin-libdir StartedAt: 2024-06-10 00:23:07 -0400 (Mon, 10 Jun 2024) EndedAt: 2024-06-10 00:23:13 -0400 (Mon, 10 Jun 2024) EllapsedTime: 5.7 seconds RetCode: 0 Status: OK PackageFile: IMPCdata_1.40.0.tgz PackageFileSize: 157.6 KiB