Package: IMPCdata Version: 1.40.0 Command: /home/biocbuild/R/R-beta-2024-04-15_r86425/bin/R CMD build --keep-empty-dirs --no-resave-data IMPCdata StartedAt: 2024-05-09 01:04:35 -0000 (Thu, 09 May 2024) EndedAt: 2024-05-09 01:06:44 -0000 (Thu, 09 May 2024) EllapsedTime: 128.2 seconds RetCode: 0 Status: OK PackageFile: IMPCdata_1.40.0.tar.gz PackageFileSize: 104.6 KiB