Package: IMMAN Version: 1.24.0 Command: rm -rf IMMAN.buildbin-libdir && mkdir IMMAN.buildbin-libdir && E:\biocbuild\bbs-3.19-bioc\R\bin\R.exe CMD INSTALL --build --library=IMMAN.buildbin-libdir IMMAN_1.24.0.tar.gz StartedAt: 2024-10-17 07:59:15 -0400 (Thu, 17 Oct 2024) EndedAt: 2024-10-17 07:59:34 -0400 (Thu, 17 Oct 2024) EllapsedTime: 19.4 seconds RetCode: 0 Status: OK PackageFile: IMMAN_1.24.0.zip PackageFileSize: 64.62 KiB