Package: IMMAN Version: 1.24.0 Command: chmod a+r IMMAN -R && F:\biocbuild\bbs-3.19-bioc\R\bin\R.exe CMD build --keep-empty-dirs --no-resave-data IMMAN StartedAt: 2024-06-26 19:33:49 -0400 (Wed, 26 Jun 2024) EndedAt: 2024-06-26 19:36:02 -0400 (Wed, 26 Jun 2024) EllapsedTime: 133.5 seconds RetCode: 0 Status: OK PackageFile: IMMAN_1.24.0.tar.gz PackageFileSize: 26.44 KiB