Package: IMMAN Version: 1.24.0 Command: rm -rf IMMAN.buildbin-libdir && mkdir IMMAN.buildbin-libdir && /Users/biocbuild/BBS/utils/build-universal.sh IMMAN_1.24.0.tar.gz /Library/Frameworks/R.framework/Resources/bin/R IMMAN.buildbin-libdir StartedAt: 2024-10-17 16:23:24 -0400 (Thu, 17 Oct 2024) EndedAt: 2024-10-17 16:23:58 -0400 (Thu, 17 Oct 2024) EllapsedTime: 33.8 seconds RetCode: 0 Status: OK PackageFile: IMMAN_1.24.0.tgz PackageFileSize: 79.76 KiB