Package: IMMAN Version: 1.24.0 Command: /Library/Frameworks/R.framework/Resources/bin/R CMD check --install=check:IMMAN.install-out.txt --library=/Library/Frameworks/R.framework/Resources/library --no-vignettes --timings IMMAN_1.24.0.tar.gz StartedAt: 2024-10-18 01:04:29 -0400 (Fri, 18 Oct 2024) EndedAt: 2024-10-18 01:09:06 -0400 (Fri, 18 Oct 2024) EllapsedTime: 277.5 seconds RetCode: 0 Status: OK CheckDir: IMMAN.Rcheck Warnings: 0