Package: IMMAN Version: 1.24.0 Command: /Library/Frameworks/R.framework/Resources/bin/R CMD build --keep-empty-dirs --no-resave-data IMMAN StartedAt: 2024-10-17 02:43:05 -0400 (Thu, 17 Oct 2024) EndedAt: 2024-10-17 02:44:37 -0400 (Thu, 17 Oct 2024) EllapsedTime: 92.6 seconds RetCode: 0 Status: OK PackageFile: IMMAN_1.24.0.tar.gz PackageFileSize: 45.02 KiB