Package: IMMAN Version: 1.24.0 Command: rm -rf IMMAN.buildbin-libdir && mkdir IMMAN.buildbin-libdir && /Users/biocbuild/BBS/utils/build-universal.sh IMMAN_1.24.0.tar.gz /Library/Frameworks/R.framework/Resources/bin/R IMMAN.buildbin-libdir StartedAt: 2024-10-18 18:59:40 -0400 (Fri, 18 Oct 2024) EndedAt: 2024-10-18 19:00:00 -0400 (Fri, 18 Oct 2024) EllapsedTime: 20.4 seconds RetCode: 0 Status: OK PackageFile: IMMAN_1.24.0.tgz PackageFileSize: 79.59 KiB