Package: IMAS Version: 1.28.0 Command: rm -rf IMAS.buildbin-libdir && mkdir IMAS.buildbin-libdir && E:\biocbuild\bbs-3.19-bioc\R\bin\R.exe CMD INSTALL --build --library=IMAS.buildbin-libdir IMAS_1.28.0.tar.gz StartedAt: 2024-10-17 07:59:07 -0400 (Thu, 17 Oct 2024) EndedAt: 2024-10-17 08:00:02 -0400 (Thu, 17 Oct 2024) EllapsedTime: 54.6 seconds RetCode: 0 Status: OK PackageFile: IMAS_1.28.0.zip PackageFileSize: 778.6 KiB