Package: IMAS Version: 1.28.0 Command: /Library/Frameworks/R.framework/Resources/bin/R CMD build --keep-empty-dirs --no-resave-data IMAS StartedAt: 2024-10-16 20:08:42 -0400 (Wed, 16 Oct 2024) EndedAt: 2024-10-16 20:12:51 -0400 (Wed, 16 Oct 2024) EllapsedTime: 249.2 seconds RetCode: 0 Status: OK PackageFile: IMAS_1.28.0.tar.gz PackageFileSize: 601.6 KiB