Package: IMAS Version: 1.28.0 Command: /Library/Frameworks/R.framework/Resources/bin/R CMD check --install=check:IMAS.install-out.txt --library=/Library/Frameworks/R.framework/Resources/library --no-vignettes --timings IMAS_1.28.0.tar.gz StartedAt: 2024-10-18 01:03:07 -0400 (Fri, 18 Oct 2024) EndedAt: 2024-10-18 01:09:42 -0400 (Fri, 18 Oct 2024) EllapsedTime: 395.5 seconds RetCode: 0 Status: OK CheckDir: IMAS.Rcheck Warnings: 0