Package: IMAS Version: 1.28.0 Command: /Library/Frameworks/R.framework/Resources/bin/R CMD build --keep-empty-dirs --no-resave-data IMAS StartedAt: 2024-10-17 02:40:34 -0400 (Thu, 17 Oct 2024) EndedAt: 2024-10-17 02:43:01 -0400 (Thu, 17 Oct 2024) EllapsedTime: 147.9 seconds RetCode: 0 Status: OK PackageFile: IMAS_1.28.0.tar.gz PackageFileSize: 601.6 KiB