Package: ILoReg Version: 1.14.0 Command: chmod a+r ILoReg -R && E:\biocbuild\bbs-3.19-bioc\R\bin\R.exe CMD build --keep-empty-dirs --no-resave-data ILoReg StartedAt: 2024-10-16 19:47:31 -0400 (Wed, 16 Oct 2024) EndedAt: 2024-10-16 19:50:51 -0400 (Wed, 16 Oct 2024) EllapsedTime: 200.6 seconds RetCode: 0 Status: OK PackageFile: ILoReg_1.14.0.tar.gz PackageFileSize: 1.742 MiB