Package: ILoReg Version: 1.14.0 Command: rm -rf ILoReg.buildbin-libdir && mkdir ILoReg.buildbin-libdir && E:\biocbuild\bbs-3.19-bioc\R\bin\R.exe CMD INSTALL --build --library=ILoReg.buildbin-libdir ILoReg_1.14.0.tar.gz StartedAt: 2024-10-17 07:59:04 -0400 (Thu, 17 Oct 2024) EndedAt: 2024-10-17 08:00:00 -0400 (Thu, 17 Oct 2024) EllapsedTime: 56.8 seconds RetCode: 0 Status: OK PackageFile: ILoReg_1.14.0.zip PackageFileSize: 2.11 MiB