Package: ILoReg Version: 1.14.0 Command: /Library/Frameworks/R.framework/Resources/bin/R CMD build --keep-empty-dirs --no-resave-data ILoReg StartedAt: 2024-10-16 20:08:04 -0400 (Wed, 16 Oct 2024) EndedAt: 2024-10-16 20:13:27 -0400 (Wed, 16 Oct 2024) EllapsedTime: 323.0 seconds RetCode: 0 Status: OK PackageFile: ILoReg_1.14.0.tar.gz PackageFileSize: 2.734 MiB