Package: ILoReg Version: 1.14.0 Command: /Library/Frameworks/R.framework/Resources/bin/R CMD build --keep-empty-dirs --no-resave-data ILoReg StartedAt: 2024-06-09 16:59:50 -0400 (Sun, 09 Jun 2024) EndedAt: 2024-06-09 17:02:29 -0400 (Sun, 09 Jun 2024) EllapsedTime: 158.4 seconds RetCode: 0 Status: OK PackageFile: ILoReg_1.14.0.tar.gz PackageFileSize: 2.746 MiB