Package: ILoReg Version: 1.14.0 Command: /home/biocbuild/R/R-beta-2024-04-15_r86425/bin/R CMD build --keep-empty-dirs --no-resave-data ILoReg StartedAt: 2024-05-09 01:03:27 -0000 (Thu, 09 May 2024) EndedAt: 2024-05-09 01:06:37 -0000 (Thu, 09 May 2024) EllapsedTime: 189.3 seconds RetCode: 0 Status: OK PackageFile: ILoReg_1.14.0.tar.gz PackageFileSize: 1.83 MiB