Package: ILoReg Version: 1.14.0 Command: /Library/Frameworks/R.framework/Resources/bin/R CMD INSTALL ILoReg StartedAt: 2024-10-16 19:00:57 -0400 (Wed, 16 Oct 2024) EndedAt: 2024-10-16 19:01:32 -0400 (Wed, 16 Oct 2024) EllapsedTime: 34.3 seconds RetCode: 0 Status: OK