Package: ILoReg Version: 1.14.0 Maintainer: Johannes Smolander MaintainerEmail: johannes.smolander at gmail.com git_url: https://git.bioconductor.org/packages/ILoReg git_branch: RELEASE_3_19 git_last_commit: d4f761d git_last_commit_date: 2024-04-30 11:25:38 -0400 (Tue, 30 Apr 2024)