Package: IHW Version: 1.32.0 Command: E:\biocbuild\bbs-3.19-bioc\R\bin\R.exe CMD INSTALL IHW StartedAt: 2024-10-16 16:08:17 -0400 (Wed, 16 Oct 2024) EndedAt: 2024-10-16 16:08:29 -0400 (Wed, 16 Oct 2024) EllapsedTime: 11.6 seconds RetCode: 0 Status: OK