Package: IHW Version: 1.32.0 Command: /home/biocbuild/R/R-beta-2024-04-15_r86425/bin/R CMD INSTALL IHW StartedAt: 2024-05-08 20:10:30 -0000 (Wed, 08 May 2024) EndedAt: 2024-05-08 20:10:43 -0000 (Wed, 08 May 2024) EllapsedTime: 12.8 seconds RetCode: 1 Status: ERROR