Package: IHW Version: 1.32.0 Command: /Library/Frameworks/R.framework/Resources/bin/R CMD build --keep-empty-dirs --no-resave-data IHW StartedAt: 2024-06-09 23:07:52 -0400 (Sun, 09 Jun 2024) EndedAt: 2024-06-09 23:12:59 -0400 (Sun, 09 Jun 2024) EllapsedTime: 307.3 seconds RetCode: 0 Status: OK PackageFile: IHW_1.32.0.tar.gz PackageFileSize: 4.755 MiB