Package: IHW Version: 1.32.0 Maintainer: Nikos Ignatiadis MaintainerEmail: nikos.ignatiadis01 at gmail.com git_url: https://git.bioconductor.org/packages/IHW git_branch: RELEASE_3_19 git_last_commit: af19127 git_last_commit_date: 2024-04-30 10:47:54 -0400 (Tue, 30 Apr 2024)