Package: IFAA Version: 1.6.0 Command: rm -rf IFAA.buildbin-libdir && mkdir IFAA.buildbin-libdir && E:\biocbuild\bbs-3.19-bioc\R\bin\R.exe CMD INSTALL --build --library=IFAA.buildbin-libdir IFAA_1.6.0.tar.gz StartedAt: 2024-10-17 07:58:53 -0400 (Thu, 17 Oct 2024) EndedAt: 2024-10-17 07:59:26 -0400 (Thu, 17 Oct 2024) EllapsedTime: 33.5 seconds RetCode: 0 Status: OK PackageFile: IFAA_1.6.0.zip PackageFileSize: 388.4 KiB