Package: IFAA Version: 1.6.0 Command: chmod a+r IFAA -R && F:\biocbuild\bbs-3.19-bioc\R\bin\R.exe CMD build --keep-empty-dirs --no-resave-data IFAA StartedAt: 2024-06-26 19:32:32 -0400 (Wed, 26 Jun 2024) EndedAt: 2024-06-26 19:34:56 -0400 (Wed, 26 Jun 2024) EllapsedTime: 144.0 seconds RetCode: 0 Status: OK PackageFile: IFAA_1.6.0.tar.gz PackageFileSize: 299.1 KiB