Package: IFAA Version: 1.6.0 Command: /home/biocbuild/bbs-3.19-bioc/R/bin/R CMD build --keep-empty-dirs --no-resave-data IFAA StartedAt: 2024-10-16 19:01:51 -0400 (Wed, 16 Oct 2024) EndedAt: 2024-10-16 19:04:02 -0400 (Wed, 16 Oct 2024) EllapsedTime: 130.3 seconds RetCode: 0 Status: OK PackageFile: IFAA_1.6.0.tar.gz PackageFileSize: 298.3 KiB