Package: IFAA Version: 1.6.0 Command: /Library/Frameworks/R.framework/Resources/bin/R CMD check --install=check:IFAA.install-out.txt --library=/Library/Frameworks/R.framework/Resources/library --no-vignettes --timings IFAA_1.6.0.tar.gz StartedAt: 2024-10-17 06:54:31 -0400 (Thu, 17 Oct 2024) EndedAt: 2024-10-17 07:10:59 -0400 (Thu, 17 Oct 2024) EllapsedTime: 988.4 seconds RetCode: 0 Status: OK CheckDir: IFAA.Rcheck Warnings: 0