Package: IFAA Version: 1.6.0 Command: /Library/Frameworks/R.framework/Resources/bin/R CMD INSTALL IFAA StartedAt: 2024-10-16 17:49:09 -0400 (Wed, 16 Oct 2024) EndedAt: 2024-10-16 17:49:41 -0400 (Wed, 16 Oct 2024) EllapsedTime: 31.4 seconds RetCode: 0 Status: OK