Package: IFAA Version: 1.6.0 Command: /Library/Frameworks/R.framework/Resources/bin/R CMD check --install=check:IFAA.install-out.txt --library=/Library/Frameworks/R.framework/Resources/library --no-vignettes --timings IFAA_1.6.0.tar.gz StartedAt: 2024-10-18 00:58:02 -0400 (Fri, 18 Oct 2024) EndedAt: 2024-10-18 01:07:16 -0400 (Fri, 18 Oct 2024) EllapsedTime: 553.8 seconds RetCode: 0 Status: OK CheckDir: IFAA.Rcheck Warnings: 0