Package: HybridMTest Version: 1.48.0 Command: rm -rf HybridMTest.buildbin-libdir && mkdir HybridMTest.buildbin-libdir && F:\biocbuild\bbs-3.19-bioc\R\bin\R.exe CMD INSTALL --build --library=HybridMTest.buildbin-libdir HybridMTest_1.48.0.tar.gz StartedAt: 2024-06-27 08:21:48 -0400 (Thu, 27 Jun 2024) EndedAt: 2024-06-27 08:22:06 -0400 (Thu, 27 Jun 2024) EllapsedTime: 18.0 seconds RetCode: 0 Status: OK PackageFile: HybridMTest_1.48.0.zip PackageFileSize: 239.2 KiB